BEGIN:VCALENDAR
VERSION:2.0
PRODID:-//Children&#039;s Assessment Center - ECPv6.15.20//NONSGML v1.0//EN
CALSCALE:GREGORIAN
METHOD:PUBLISH
X-WR-CALNAME:Children&#039;s Assessment Center
X-ORIGINAL-URL:https://cachouston.org
X-WR-CALDESC:Events for Children&#039;s Assessment Center
REFRESH-INTERVAL;VALUE=DURATION:PT1H
X-Robots-Tag:noindex
X-PUBLISHED-TTL:PT1H
BEGIN:VTIMEZONE
TZID:America/Chicago
BEGIN:DAYLIGHT
TZOFFSETFROM:-0600
TZOFFSETTO:-0500
TZNAME:CDT
DTSTART:20240310T080000
END:DAYLIGHT
BEGIN:STANDARD
TZOFFSETFROM:-0500
TZOFFSETTO:-0600
TZNAME:CST
DTSTART:20241103T070000
END:STANDARD
BEGIN:DAYLIGHT
TZOFFSETFROM:-0600
TZOFFSETTO:-0500
TZNAME:CDT
DTSTART:20250309T080000
END:DAYLIGHT
BEGIN:STANDARD
TZOFFSETFROM:-0500
TZOFFSETTO:-0600
TZNAME:CST
DTSTART:20251102T070000
END:STANDARD
BEGIN:DAYLIGHT
TZOFFSETFROM:-0600
TZOFFSETTO:-0500
TZNAME:CDT
DTSTART:20260308T080000
END:DAYLIGHT
BEGIN:STANDARD
TZOFFSETFROM:-0500
TZOFFSETTO:-0600
TZNAME:CST
DTSTART:20261101T070000
END:STANDARD
END:VTIMEZONE
BEGIN:VEVENT
DTSTART;TZID=America/Chicago:20250107T100000
DTEND;TZID=America/Chicago:20250107T120000
DTSTAMP:20260419T170042
CREATED:20241202T212042Z
LAST-MODIFIED:20241202T212042Z
UID:6452-1736244000-1736251200@cachouston.org
SUMMARY:Recognizing and Addressing Human Trafficking: A Guide for Educators and School Officials
DESCRIPTION:
URL:https://cachouston.org/event/recognizing-and-addressing-human-trafficking-a-guide-for-educators-and-school-officials/
LOCATION:Virtual Event
CATEGORIES:Training
END:VEVENT
BEGIN:VEVENT
DTSTART;TZID=America/Chicago:20250114T090000
DTEND;TZID=America/Chicago:20250114T120000
DTSTAMP:20260419T170042
CREATED:20241202T143818Z
LAST-MODIFIED:20241202T143818Z
UID:6453-1736845200-1736856000@cachouston.org
SUMMARY:Familial Trafficking: Prevalence\, Characteristics\, and Challenges
DESCRIPTION:
URL:https://cachouston.org/event/familial-trafficking-prevalence-characteristics-and-challenges-2/
LOCATION:Virtual Event
CATEGORIES:Training
END:VEVENT
BEGIN:VEVENT
DTSTART;TZID=America/Chicago:20250114T140000
DTEND;TZID=America/Chicago:20250114T163000
DTSTAMP:20260419T170042
CREATED:20241227T160129Z
LAST-MODIFIED:20241227T160129Z
UID:6501-1736863200-1736872200@cachouston.org
SUMMARY:Darkness to Light's Stewards of Children: Prevention and Awareness Training
DESCRIPTION:
URL:https://cachouston.org/event/darkness-to-lights-stewards-of-children-prevention-and-awareness-training/
LOCATION:The Children’s Assessment Center
CATEGORIES:Training
END:VEVENT
BEGIN:VEVENT
DTSTART;TZID=America/Chicago:20250115T173000
DTEND;TZID=America/Chicago:20250115T203000
DTSTAMP:20260419T170042
CREATED:20241213T160513Z
LAST-MODIFIED:20241213T161942Z
UID:6482-1736962200-1736973000@cachouston.org
SUMMARY:The CAC's & CAI. Volunteer/Intern Training
DESCRIPTION:
URL:https://cachouston.org/event/6482/
LOCATION:The Children’s Assessment Center
CATEGORIES:Training
END:VEVENT
BEGIN:VEVENT
DTSTART;TZID=America/Chicago:20250121T100000
DTEND;TZID=America/Chicago:20250121T120000
DTSTAMP:20260419T170042
CREATED:20241202T213321Z
LAST-MODIFIED:20250116T160902Z
UID:6468-1737453600-1737460800@cachouston.org
SUMMARY:The Federal Bureau of Investigation's (FBI) Role in Combatting Human Trafficking
DESCRIPTION:
URL:https://cachouston.org/event/the-federal-bureau-of-investigations-fbi-role-in-combatting-human-trafficking/
LOCATION:Virtual Event
CATEGORIES:Training
END:VEVENT
BEGIN:VEVENT
DTSTART;TZID=America/Chicago:20250123T080000
DTEND;TZID=America/Chicago:20250123T170000
DTSTAMP:20260419T170042
CREATED:20241202T144151Z
LAST-MODIFIED:20241202T144151Z
UID:6456-1737619200-1737651600@cachouston.org
SUMMARY:Human Trafficking Prevention
DESCRIPTION:
URL:https://cachouston.org/event/human-trafficking-prevention-2/
LOCATION:Virtual Event
CATEGORIES:Training
END:VEVENT
BEGIN:VEVENT
DTSTART;TZID=America/Chicago:20250128T100000
DTEND;TZID=America/Chicago:20250128T120000
DTSTAMP:20260419T170042
CREATED:20241202T144341Z
LAST-MODIFIED:20241202T144428Z
UID:6459-1738058400-1738065600@cachouston.org
SUMMARY:Internet Safety and Emerging Trends in Protecting Children Online
DESCRIPTION:
URL:https://cachouston.org/event/internet-safety-and-emerging-trends-in-protecting-children-online/
LOCATION:Virtual Event
CATEGORIES:Training
END:VEVENT
BEGIN:VEVENT
DTSTART;TZID=America/Chicago:20250129T100000
DTEND;TZID=America/Chicago:20250129T120000
DTSTAMP:20260419T170042
CREATED:20241202T144607Z
LAST-MODIFIED:20241202T144607Z
UID:6462-1738144800-1738152000@cachouston.org
SUMMARY:Hiding in Plain Sight: The Trafficked in the Health Care Setting
DESCRIPTION:
URL:https://cachouston.org/event/hiding-in-plain-sight-the-trafficked-in-the-health-care-setting-3/
LOCATION:Virtual Event
CATEGORIES:Training
END:VEVENT
BEGIN:VEVENT
DTSTART;TZID=America/Chicago:20250130T090000
DTEND;TZID=America/Chicago:20250130T100000
DTSTAMP:20260419T170042
CREATED:20241227T213455Z
LAST-MODIFIED:20241227T214456Z
UID:6510-1738227600-1738231200@cachouston.org
SUMMARY:Darkness to Light - Commercial Sexual Exploitation of Children
DESCRIPTION:
URL:https://cachouston.org/event/darkness-to-light-commercial-sexual-exploitation-of-children-40/
LOCATION:Virtual Event
CATEGORIES:Training
END:VEVENT
END:VCALENDAR