BEGIN:VCALENDAR
VERSION:2.0
PRODID:-//Children&#039;s Assessment Center - ECPv6.15.20//NONSGML v1.0//EN
CALSCALE:GREGORIAN
METHOD:PUBLISH
X-WR-CALNAME:Children&#039;s Assessment Center
X-ORIGINAL-URL:https://cachouston.org
X-WR-CALDESC:Events for Children&#039;s Assessment Center
REFRESH-INTERVAL;VALUE=DURATION:PT1H
X-Robots-Tag:noindex
X-PUBLISHED-TTL:PT1H
BEGIN:VTIMEZONE
TZID:America/Chicago
BEGIN:DAYLIGHT
TZOFFSETFROM:-0600
TZOFFSETTO:-0500
TZNAME:CDT
DTSTART:20190310T080000
END:DAYLIGHT
BEGIN:STANDARD
TZOFFSETFROM:-0500
TZOFFSETTO:-0600
TZNAME:CST
DTSTART:20191103T070000
END:STANDARD
BEGIN:DAYLIGHT
TZOFFSETFROM:-0600
TZOFFSETTO:-0500
TZNAME:CDT
DTSTART:20200308T080000
END:DAYLIGHT
BEGIN:STANDARD
TZOFFSETFROM:-0500
TZOFFSETTO:-0600
TZNAME:CST
DTSTART:20201101T070000
END:STANDARD
BEGIN:DAYLIGHT
TZOFFSETFROM:-0600
TZOFFSETTO:-0500
TZNAME:CDT
DTSTART:20210314T080000
END:DAYLIGHT
BEGIN:STANDARD
TZOFFSETFROM:-0500
TZOFFSETTO:-0600
TZNAME:CST
DTSTART:20211107T070000
END:STANDARD
END:VTIMEZONE
BEGIN:VEVENT
DTSTART;TZID=America/Chicago:20200414T090000
DTEND;TZID=America/Chicago:20200414T123000
DTSTAMP:20260421T104914
CREATED:20200317T142253Z
LAST-MODIFIED:20200317T142253Z
UID:2607-1586854800-1586867400@cachouston.org
SUMMARY:CANCELLED: Children’s Assessment Center (CAC) and Child Advocates Inc. Volunteer Training
DESCRIPTION:APRIL 14th HAS BEEN CANCELLED DUE TO COVID-19 PRECAUTIONS. 
URL:https://cachouston.org/event/cancelled-childrens-assessment-center-cac-and-child-advocates-inc-volunteer-training/
CATEGORIES:Training
ORGANIZER;CN="Training":MAILTO:cactraining@cac.hctx.net
END:VEVENT
BEGIN:VEVENT
DTSTART;TZID=America/Chicago:20200416T183000
DTEND;TZID=America/Chicago:20200416T203000
DTSTAMP:20260421T104914
CREATED:20200102T172950Z
LAST-MODIFIED:20200325T182416Z
UID:2410-1587061800-1587069000@cachouston.org
SUMMARY:CANCELLED: Darkness to Light: Stewards of Children- En Espanol
DESCRIPTION:DUE TO COVID-19 PRECAUTIONS: Darkness To Light: Stewards of Children- En Espanol will be rescheduled.\n 
URL:https://cachouston.org/event/darkness-to-light-stewards-of-children-en-espanol/
LOCATION:TX\, United States
CATEGORIES:Training
ORGANIZER;CN="Training":MAILTO:cactraining@cac.hctx.net
END:VEVENT
BEGIN:VEVENT
DTSTART;TZID=America/Chicago:20200428T090000
DTEND;TZID=America/Chicago:20200428T110000
DTSTAMP:20260421T104914
CREATED:20200102T173037Z
LAST-MODIFIED:20200330T195741Z
UID:2412-1588064400-1588071600@cachouston.org
SUMMARY:CANCELLED: Darkness to Light: Stewards of Children
DESCRIPTION:DUE TO COVID-19\, THIS DARKNESS TO LIGHT HAS BEEN CANCELLED.
URL:https://cachouston.org/event/darkness-to-light-stewards-of-children-5/
LOCATION:The Children’s Assessment Center\, 2500 Bolsover\, Houston\, TX\, 77005\, United States
CATEGORIES:Training
ORGANIZER;CN="Training":MAILTO:cactraining@cac.hctx.net
END:VEVENT
END:VCALENDAR