BEGIN:VCALENDAR
VERSION:2.0
PRODID:-//Children&#039;s Assessment Center - ECPv6.15.20//NONSGML v1.0//EN
CALSCALE:GREGORIAN
METHOD:PUBLISH
X-ORIGINAL-URL:https://cachouston.org
X-WR-CALDESC:Events for Children&#039;s Assessment Center
REFRESH-INTERVAL;VALUE=DURATION:PT1H
X-Robots-Tag:noindex
X-PUBLISHED-TTL:PT1H
BEGIN:VTIMEZONE
TZID:America/Chicago
BEGIN:DAYLIGHT
TZOFFSETFROM:-0600
TZOFFSETTO:-0500
TZNAME:CDT
DTSTART:20210314T080000
END:DAYLIGHT
BEGIN:STANDARD
TZOFFSETFROM:-0500
TZOFFSETTO:-0600
TZNAME:CST
DTSTART:20211107T070000
END:STANDARD
BEGIN:DAYLIGHT
TZOFFSETFROM:-0600
TZOFFSETTO:-0500
TZNAME:CDT
DTSTART:20220313T080000
END:DAYLIGHT
BEGIN:STANDARD
TZOFFSETFROM:-0500
TZOFFSETTO:-0600
TZNAME:CST
DTSTART:20221106T070000
END:STANDARD
BEGIN:DAYLIGHT
TZOFFSETFROM:-0600
TZOFFSETTO:-0500
TZNAME:CDT
DTSTART:20230312T080000
END:DAYLIGHT
BEGIN:STANDARD
TZOFFSETFROM:-0500
TZOFFSETTO:-0600
TZNAME:CST
DTSTART:20231105T070000
END:STANDARD
END:VTIMEZONE
BEGIN:VEVENT
DTSTART;TZID=America/Chicago:20220111T110000
DTEND;TZID=America/Chicago:20220111T120000
DTSTAMP:20260421T173547
CREATED:20220107T224455Z
LAST-MODIFIED:20220107T224455Z
UID:4764-1641898800-1641902400@cachouston.org
SUMMARY:Teresa J. Helm: Childhood Abuse Survivor\, Jeffrey Epstein\, and Ghislaine Maxwell Survivor
DESCRIPTION:
URL:https://cachouston.org/event/teresa-j-helm-childhood-abuse-survivor-jeffrey-epstein-and-ghislaine-maxwell-survivor/
LOCATION:Microsoft Teams
CATEGORIES:Training
END:VEVENT
BEGIN:VEVENT
DTSTART;TZID=America/Chicago:20220113T120000
DTEND;TZID=America/Chicago:20220113T130000
DTSTAMP:20260421T173547
CREATED:20220111T141758Z
LAST-MODIFIED:20220111T141758Z
UID:4769-1642075200-1642078800@cachouston.org
SUMMARY:Keeping Children Safe from Sexual Exploitation: Lessons Learned from Working with Survivors of Sexual Exploitation
DESCRIPTION:
URL:https://cachouston.org/event/keeping-children-safe-from-sexual-exploitation-lessons-learned-from-working-with-survivors-of-sexual-exploitation/
LOCATION:Microsoft Teams
CATEGORIES:Training
END:VEVENT
BEGIN:VEVENT
DTSTART;TZID=America/Chicago:20220113T140000
DTEND;TZID=America/Chicago:20220113T144500
DTSTAMP:20260421T173547
CREATED:20211111T205437Z
LAST-MODIFIED:20211230T151606Z
UID:4696-1642082400-1642085100@cachouston.org
SUMMARY:Darkness to Light: Talking With Children About Safety From Sexual Abuse
DESCRIPTION:
URL:https://cachouston.org/event/darkness-to-light-talking-with-children-about-safety-from-sexual-abuse-7/
LOCATION:Microsoft Teams
CATEGORIES:Training
END:VEVENT
BEGIN:VEVENT
DTSTART;TZID=America/Chicago:20220119T090000
DTEND;TZID=America/Chicago:20220119T100000
DTSTAMP:20260421T173547
CREATED:20211110T220649Z
LAST-MODIFIED:20211115T192042Z
UID:4681-1642582800-1642586400@cachouston.org
SUMMARY:Darkness to Light: Commercial Sexual Exploitation of Children
DESCRIPTION:
URL:https://cachouston.org/event/darkness-to-light-commercial-sexual-exploitation-of-children-10/
LOCATION:Microsoft Teams
CATEGORIES:Training
END:VEVENT
BEGIN:VEVENT
DTSTART;TZID=America/Chicago:20220119T090000
DTEND;TZID=America/Chicago:20220119T120000
DTSTAMP:20260421T173547
CREATED:20220112T222235Z
LAST-MODIFIED:20220112T222334Z
UID:4778-1642582800-1642593600@cachouston.org
SUMMARY:Mommy Dearest: When Victimization Hits Close to Home
DESCRIPTION:
URL:https://cachouston.org/event/mommy-dearest-when-victimization-hits-close-to-home/
LOCATION:Microsoft Teams
CATEGORIES:Training
END:VEVENT
BEGIN:VEVENT
DTSTART;TZID=America/Chicago:20220119T173000
DTEND;TZID=America/Chicago:20220119T210000
DTSTAMP:20260421T173547
CREATED:20211014T173211Z
LAST-MODIFIED:20211115T192207Z
UID:4609-1642613400-1642626000@cachouston.org
SUMMARY:Children’s Assessment Center (CAC) and Child Advocates Inc. Volunteer Training
DESCRIPTION:
URL:https://cachouston.org/event/childrens-assessment-center-cac-and-child-advocates-inc-volunteer-training-19/
LOCATION:Zoom
CATEGORIES:Training
END:VEVENT
BEGIN:VEVENT
DTSTART;TZID=America/Chicago:20220120T130000
DTEND;TZID=America/Chicago:20220120T160000
DTSTAMP:20260421T173547
CREATED:20220113T212639Z
LAST-MODIFIED:20220113T212639Z
UID:4782-1642683600-1642694400@cachouston.org
SUMMARY:An Update from Human Trafficking Rescue Alliance (HTRA)
DESCRIPTION:
URL:https://cachouston.org/event/an-update-from-human-trafficking-rescue-alliance-htra/
LOCATION:Microsoft Teams
CATEGORIES:Training
END:VEVENT
BEGIN:VEVENT
DTSTART;TZID=America/Chicago:20220125T090000
DTEND;TZID=America/Chicago:20220125T103000
DTSTAMP:20260421T173547
CREATED:20220118T191657Z
LAST-MODIFIED:20220118T191657Z
UID:4787-1643101200-1643106600@cachouston.org
SUMMARY:TRIAD Care Coordination for Child Sex Trafficking Survivors in Houston Region (2018-2022): What is it? Where are we now? Yes\, we can help.
DESCRIPTION:
URL:https://cachouston.org/event/triad-care-coordination-for-child-sex-trafficking-survivors-in-houston-region-2018-2022-what-is-it-where-are-we-now-yes-we-can-help/
LOCATION:Microsoft Teams
CATEGORIES:Training
END:VEVENT
BEGIN:VEVENT
DTSTART;TZID=America/Chicago:20220125T090000
DTEND;TZID=America/Chicago:20220125T110000
DTSTAMP:20260421T173547
CREATED:20211102T210558Z
LAST-MODIFIED:20211115T191942Z
UID:4652-1643101200-1643108400@cachouston.org
SUMMARY:Darkness to Light: Stewards of Children
DESCRIPTION:
URL:https://cachouston.org/event/darkness-to-light-stewards-of-children-30/
LOCATION:Microsoft Teams
CATEGORIES:Training
END:VEVENT
BEGIN:VEVENT
DTSTART;TZID=America/Chicago:20220126T090000
DTEND;TZID=America/Chicago:20220126T103000
DTSTAMP:20260421T173547
CREATED:20220112T221513Z
LAST-MODIFIED:20220112T221513Z
UID:4775-1643187600-1643193000@cachouston.org
SUMMARY:Ending Child Sexual Exploitation in Texas: Progress and Hope
DESCRIPTION:
URL:https://cachouston.org/event/ending-child-sexual-exploitation-in-texas-progress-and-hope/
LOCATION:Microsoft Teams
CATEGORIES:Training
END:VEVENT
BEGIN:VEVENT
DTSTART;TZID=America/Chicago:20220126T160000
DTEND;TZID=America/Chicago:20220126T200000
DTSTAMP:20260421T173547
CREATED:20211227T183200Z
LAST-MODIFIED:20220119T142740Z
UID:4724-1643212800-1643227200@cachouston.org
SUMMARY:Chipotle Fundraiser for The Children's Assessment Center
DESCRIPTION:You can support The CAC’s healing services by ordering online for pickup using code MR69WKR or show this flyer for The CAC to receive 33% of the day’s sales! \nMust order for pickup or dine in at 5600 Kirby Dr. ste. N1\, Houston\, TX 77005 location only. No third-party delivery services may be used. \n  \n 
URL:https://cachouston.org/event/chipotle-fundraiser-for-the-childrens-assessment-center/
LOCATION:Chipotle\, 5600 Kirby Dr. ste. N1\, Houston\, 77005\, United States
ORGANIZER;CN="Verenice Mayoral":MAILTO:verenice.mayoral@cac.hctx.net
END:VEVENT
END:VCALENDAR