BEGIN:VCALENDAR
VERSION:2.0
PRODID:-//Children&#039;s Assessment Center - ECPv6.15.20//NONSGML v1.0//EN
CALSCALE:GREGORIAN
METHOD:PUBLISH
X-WR-CALNAME:Children&#039;s Assessment Center
X-ORIGINAL-URL:https://cachouston.org
X-WR-CALDESC:Events for Children&#039;s Assessment Center
REFRESH-INTERVAL;VALUE=DURATION:PT1H
X-Robots-Tag:noindex
X-PUBLISHED-TTL:PT1H
BEGIN:VTIMEZONE
TZID:America/Chicago
BEGIN:DAYLIGHT
TZOFFSETFROM:-0600
TZOFFSETTO:-0500
TZNAME:CDT
DTSTART:20210314T080000
END:DAYLIGHT
BEGIN:STANDARD
TZOFFSETFROM:-0500
TZOFFSETTO:-0600
TZNAME:CST
DTSTART:20211107T070000
END:STANDARD
BEGIN:DAYLIGHT
TZOFFSETFROM:-0600
TZOFFSETTO:-0500
TZNAME:CDT
DTSTART:20220313T080000
END:DAYLIGHT
BEGIN:STANDARD
TZOFFSETFROM:-0500
TZOFFSETTO:-0600
TZNAME:CST
DTSTART:20221106T070000
END:STANDARD
BEGIN:DAYLIGHT
TZOFFSETFROM:-0600
TZOFFSETTO:-0500
TZNAME:CDT
DTSTART:20230312T080000
END:DAYLIGHT
BEGIN:STANDARD
TZOFFSETFROM:-0500
TZOFFSETTO:-0600
TZNAME:CST
DTSTART:20231105T070000
END:STANDARD
END:VTIMEZONE
BEGIN:VEVENT
DTSTART;TZID=America/Chicago:20220310T140000
DTEND;TZID=America/Chicago:20220310T144500
DTSTAMP:20260421T143056
CREATED:20211111T205701Z
LAST-MODIFIED:20211115T192312Z
UID:4697-1646920800-1646923500@cachouston.org
SUMMARY:Darkness to Light: Talking With Children About Safety From Sexual Abuse
DESCRIPTION:
URL:https://cachouston.org/event/darkness-to-light-talking-with-children-about-safety-from-sexual-abuse-8/
LOCATION:Microsoft Teams
CATEGORIES:Training
END:VEVENT
BEGIN:VEVENT
DTSTART;TZID=America/Chicago:20220312T090000
DTEND;TZID=America/Chicago:20220312T110000
DTSTAMP:20260421T143056
CREATED:20211102T211908Z
LAST-MODIFIED:20211115T192747Z
UID:4655-1647075600-1647082800@cachouston.org
SUMMARY:Darkness to Light: Stewards of Children
DESCRIPTION:
URL:https://cachouston.org/event/darkness-to-light-stewards-of-children-32/
LOCATION:Microsoft Teams
CATEGORIES:Training
END:VEVENT
BEGIN:VEVENT
DTSTART;TZID=America/Chicago:20220316T090000
DTEND;TZID=America/Chicago:20220316T100000
DTSTAMP:20260421T143056
CREATED:20211111T202828Z
LAST-MODIFIED:20211115T192517Z
UID:4683-1647421200-1647424800@cachouston.org
SUMMARY:Darkness to Light: Commercial Sexual Exploitation of Children
DESCRIPTION:
URL:https://cachouston.org/event/darkness-to-light-commercial-sexual-exploitation-of-children-12/
LOCATION:Microsoft Teams
CATEGORIES:Training
END:VEVENT
BEGIN:VEVENT
DTSTART;TZID=America/Chicago:20220323T090000
DTEND;TZID=America/Chicago:20220323T120000
DTSTAMP:20260421T143056
CREATED:20220218T204655Z
LAST-MODIFIED:20220218T204655Z
UID:4832-1648026000-1648036800@cachouston.org
SUMMARY:Ethics in the Treatment of Traumatized People
DESCRIPTION:
URL:https://cachouston.org/event/ethics-in-the-treatment-of-traumatized-people/
LOCATION:Microsoft Teams
CATEGORIES:Training
END:VEVENT
BEGIN:VEVENT
DTSTART;TZID=America/Chicago:20220329T120000
DTEND;TZID=America/Chicago:20220329T133000
DTSTAMP:20260421T143056
CREATED:20211122T194653Z
LAST-MODIFIED:20211206T160913Z
UID:4711-1648555200-1648560600@cachouston.org
SUMMARY:22nd Annual Spirit of Spring Luncheon and Fashion Show
DESCRIPTION:  \n  \n  \n  \n  \n  \n  \n  \nFor over 20 years\, The Children’s Assessment Center has hosted the Spirit of Spring Luncheon and Fashion Show to unite our community together in the fight against child sexual abuse and child sex trafficking. We use the critical funding from this event to provide support for the children and families we serve. We are so excited to be back in person and welcome our friends and families to our cornerstone event! \nThe CAC is thrilled to announce that we will host the 22nd Annual Spirit of Spring Luncheon and Fashion Show on March 29\, 2022 at the Royal Sonesta. Spirit of Spring guests will be joined by speaker\, Kaitlyn Urenda-Culpepper\, an activist and child sexual abuse survivor. We would like to give a special thanks to our Event Chairs\, Ursaline Hamilton and Lily Schnitzer \, for their dedication to our mission. \nYour generosity helps fund our essential services to protect children\, heal families\, and prevent sexual abuse and child sex trafficking. As child sexual abuse becomes increasingly pervasive\, The CAC’s ability to support this vulnerable population is imperative. The vision of The CAC is a world free of child sexual abuse. \nThank you for your support and participation! \n 
URL:https://cachouston.org/event/22nd-annual-spirit-of-spring-luncheon-and-fashion-show/
LOCATION:Royal Sonesta Houston Galleria\, 2222 West Loop South\, Houston\, TX\, 77027\, United States
ORGANIZER;CN="Verenice Mayoral":MAILTO:verenice.mayoral@cac.hctx.net
END:VEVENT
END:VCALENDAR