BEGIN:VCALENDAR
VERSION:2.0
PRODID:-//Children&#039;s Assessment Center - ECPv6.15.20//NONSGML v1.0//EN
CALSCALE:GREGORIAN
METHOD:PUBLISH
X-WR-CALNAME:Children&#039;s Assessment Center
X-ORIGINAL-URL:https://cachouston.org
X-WR-CALDESC:Events for Children&#039;s Assessment Center
REFRESH-INTERVAL;VALUE=DURATION:PT1H
X-Robots-Tag:noindex
X-PUBLISHED-TTL:PT1H
BEGIN:VTIMEZONE
TZID:America/Chicago
BEGIN:DAYLIGHT
TZOFFSETFROM:-0600
TZOFFSETTO:-0500
TZNAME:CDT
DTSTART:20210314T080000
END:DAYLIGHT
BEGIN:STANDARD
TZOFFSETFROM:-0500
TZOFFSETTO:-0600
TZNAME:CST
DTSTART:20211107T070000
END:STANDARD
BEGIN:DAYLIGHT
TZOFFSETFROM:-0600
TZOFFSETTO:-0500
TZNAME:CDT
DTSTART:20220313T080000
END:DAYLIGHT
BEGIN:STANDARD
TZOFFSETFROM:-0500
TZOFFSETTO:-0600
TZNAME:CST
DTSTART:20221106T070000
END:STANDARD
BEGIN:DAYLIGHT
TZOFFSETFROM:-0600
TZOFFSETTO:-0500
TZNAME:CDT
DTSTART:20230312T080000
END:DAYLIGHT
BEGIN:STANDARD
TZOFFSETFROM:-0500
TZOFFSETTO:-0600
TZNAME:CST
DTSTART:20231105T070000
END:STANDARD
END:VTIMEZONE
BEGIN:VEVENT
DTSTART;TZID=America/Chicago:20220608T173000
DTEND;TZID=America/Chicago:20220608T210000
DTSTAMP:20260421T090242
CREATED:20211014T184147Z
LAST-MODIFIED:20211014T184210Z
UID:4618-1654709400-1654722000@cachouston.org
SUMMARY:Children’s Assessment Center (CAC) and Child Advocates Inc. Volunteer Training
DESCRIPTION:
URL:https://cachouston.org/event/childrens-assessment-center-cac-and-child-advocates-inc-volunteer-training-23/
LOCATION:Zoom
CATEGORIES:Training
END:VEVENT
BEGIN:VEVENT
DTSTART;TZID=America/Chicago:20220609T173000
DTEND;TZID=America/Chicago:20220609T193000
DTSTAMP:20260421T090242
CREATED:20211103T164521Z
LAST-MODIFIED:20211115T192709Z
UID:4662-1654795800-1654803000@cachouston.org
SUMMARY:Darkness to Light: Stewards of Children
DESCRIPTION:
URL:https://cachouston.org/event/darkness-to-light-stewards-of-children-36/
LOCATION:Microsoft Teams
CATEGORIES:Training
END:VEVENT
BEGIN:VEVENT
DTSTART;TZID=America/Chicago:20220615T090000
DTEND;TZID=America/Chicago:20220615T100000
DTSTAMP:20260421T090242
CREATED:20211111T204334Z
LAST-MODIFIED:20211115T192444Z
UID:4687-1655283600-1655287200@cachouston.org
SUMMARY:Darkness to Light: Commercial Sexual Exploitation of Children
DESCRIPTION:
URL:https://cachouston.org/event/darkness-to-light-commercial-sexual-exploitation-of-children-15/
LOCATION:Microsoft Teams
CATEGORIES:Training
END:VEVENT
BEGIN:VEVENT
DTSTART;TZID=America/Chicago:20220616T120000
DTEND;TZID=America/Chicago:20220616T130000
DTSTAMP:20260421T090242
CREATED:20220613T205908Z
LAST-MODIFIED:20220615T192000Z
UID:5002-1655380800-1655384400@cachouston.org
SUMMARY:National Internet Safety Month: Netsmartz for Adults
DESCRIPTION:Register Here!
URL:https://cachouston.org/event/netsmartz-for-adults/
LOCATION:Microsoft Teams
CATEGORIES:Training
END:VEVENT
BEGIN:VEVENT
DTSTART;TZID=America/Chicago:20220628T140000
DTEND;TZID=America/Chicago:20220628T144500
DTSTAMP:20260421T090242
CREATED:20211104T201931Z
LAST-MODIFIED:20211104T201931Z
UID:4673-1656424800-1656427500@cachouston.org
SUMMARY:Bystanders Protecting Children From Boundary Violations and Sexual Abuse
DESCRIPTION:
URL:https://cachouston.org/event/bystanders-protecting-children-from-boundary-violations-and-sexual-abuse-3/
LOCATION:Microsoft Teams
CATEGORIES:Training
END:VEVENT
BEGIN:VEVENT
DTSTART;TZID=America/Chicago:20220629T120000
DTEND;TZID=America/Chicago:20220629T130000
DTSTAMP:20260421T090242
CREATED:20220615T191903Z
LAST-MODIFIED:20220615T192848Z
UID:5009-1656504000-1656507600@cachouston.org
SUMMARY:National Internet Safety Month: Social Media Focus On Internet Safety for Children
DESCRIPTION:Register Here!
URL:https://cachouston.org/event/national-internet-safety-month-social-media-focus-on-internet-safety-for-children/
LOCATION:Microsoft Teams
CATEGORIES:Training
END:VEVENT
END:VCALENDAR