BEGIN:VCALENDAR
VERSION:2.0
PRODID:-//Children&#039;s Assessment Center - ECPv6.15.20//NONSGML v1.0//EN
CALSCALE:GREGORIAN
METHOD:PUBLISH
X-ORIGINAL-URL:https://cachouston.org
X-WR-CALDESC:Events for Children&#039;s Assessment Center
REFRESH-INTERVAL;VALUE=DURATION:PT1H
X-Robots-Tag:noindex
X-PUBLISHED-TTL:PT1H
BEGIN:VTIMEZONE
TZID:America/Chicago
BEGIN:DAYLIGHT
TZOFFSETFROM:-0600
TZOFFSETTO:-0500
TZNAME:CDT
DTSTART:20210314T080000
END:DAYLIGHT
BEGIN:STANDARD
TZOFFSETFROM:-0500
TZOFFSETTO:-0600
TZNAME:CST
DTSTART:20211107T070000
END:STANDARD
BEGIN:DAYLIGHT
TZOFFSETFROM:-0600
TZOFFSETTO:-0500
TZNAME:CDT
DTSTART:20220313T080000
END:DAYLIGHT
BEGIN:STANDARD
TZOFFSETFROM:-0500
TZOFFSETTO:-0600
TZNAME:CST
DTSTART:20221106T070000
END:STANDARD
BEGIN:DAYLIGHT
TZOFFSETFROM:-0600
TZOFFSETTO:-0500
TZNAME:CDT
DTSTART:20230312T080000
END:DAYLIGHT
BEGIN:STANDARD
TZOFFSETFROM:-0500
TZOFFSETTO:-0600
TZNAME:CST
DTSTART:20231105T070000
END:STANDARD
END:VTIMEZONE
BEGIN:VEVENT
DTSTART;TZID=America/Chicago:20220802T120000
DTEND;TZID=America/Chicago:20220802T130000
DTSTAMP:20260421T055502
CREATED:20220726T185254Z
LAST-MODIFIED:20220726T185254Z
UID:5093-1659441600-1659445200@cachouston.org
SUMMARY:Elephant in the Room: Discussing School-Related Shootings with Children
DESCRIPTION:
URL:https://cachouston.org/event/elephant-in-the-room-discussing-school-related-shootings-with-children/
LOCATION:Microsoft Teams
CATEGORIES:Training
END:VEVENT
BEGIN:VEVENT
DTSTART;TZID=America/Chicago:20220803T173000
DTEND;TZID=America/Chicago:20220803T210000
DTSTAMP:20260421T055502
CREATED:20211014T185846Z
LAST-MODIFIED:20211014T193014Z
UID:4620-1659547800-1659560400@cachouston.org
SUMMARY:Children’s Assessment Center (CAC) and Child Advocates Inc. Volunteer Training
DESCRIPTION:
URL:https://cachouston.org/event/childrens-assessment-center-cac-and-child-advocates-inc-volunteer-training-24/
LOCATION:Zoom
CATEGORIES:Training
END:VEVENT
BEGIN:VEVENT
DTSTART;VALUE=DATE:20220805
DTEND;VALUE=DATE:20220807
DTSTAMP:20260421T055502
CREATED:20220426T143126Z
LAST-MODIFIED:20220505T155405Z
UID:4955-1659657600-1659830399@cachouston.org
SUMMARY:Spirit of Summer Volunteer Event Presented by Spindeltop Community Impact Partners
DESCRIPTION:
URL:https://cachouston.org/event/spirit-of-summer-volunteer-event-presented-by-spindeltop-community-impact-partners/
ORGANIZER;CN="Julissa Alvarado":MAILTO:julissa.alvarado@cac.hctx.net
END:VEVENT
BEGIN:VEVENT
DTSTART;TZID=America/Chicago:20220809T120000
DTEND;TZID=America/Chicago:20220809T130000
DTSTAMP:20260421T055502
CREATED:20220726T185535Z
LAST-MODIFIED:20220726T185535Z
UID:5096-1660046400-1660050000@cachouston.org
SUMMARY:Suicide Prevention: What Parents & Educators Need To Know
DESCRIPTION:
URL:https://cachouston.org/event/suicide-prevention-what-parents-educators-need-to-know/
LOCATION:Microsoft Teams
CATEGORIES:Training
END:VEVENT
BEGIN:VEVENT
DTSTART;TZID=America/Chicago:20220811T100000
DTEND;TZID=America/Chicago:20220811T120000
DTSTAMP:20260421T055502
CREATED:20220726T185812Z
LAST-MODIFIED:20220726T185812Z
UID:5098-1660212000-1660219200@cachouston.org
SUMMARY:Suicide Safety Planning with Children and Adolescents: Implementing Best Practices for Student Safety
DESCRIPTION:
URL:https://cachouston.org/event/suicide-safety-planning-with-children-and-adolescents-implementing-best-practices-for-student-safety/
LOCATION:Microsoft Teams
CATEGORIES:Training
END:VEVENT
BEGIN:VEVENT
DTSTART;TZID=America/Chicago:20220813T090000
DTEND;TZID=America/Chicago:20220813T110000
DTSTAMP:20260421T055502
CREATED:20211103T171810Z
LAST-MODIFIED:20211115T192637Z
UID:4664-1660381200-1660388400@cachouston.org
SUMMARY:Darkness to Light: Stewards of Children
DESCRIPTION:
URL:https://cachouston.org/event/darkness-to-light-stewards-of-children-38/
LOCATION:Microsoft Teams
CATEGORIES:Training
END:VEVENT
BEGIN:VEVENT
DTSTART;TZID=America/Chicago:20220816T120000
DTEND;TZID=America/Chicago:20220816T130000
DTSTAMP:20260421T055502
CREATED:20220726T190140Z
LAST-MODIFIED:20220726T190140Z
UID:5100-1660651200-1660654800@cachouston.org
SUMMARY:What to Look for in Child Abuse...And How to Respond
DESCRIPTION:
URL:https://cachouston.org/event/what-to-look-for-in-child-abuse-and-how-to-respond/
LOCATION:Microsoft Teams
CATEGORIES:Training
END:VEVENT
BEGIN:VEVENT
DTSTART;TZID=America/Chicago:20220817T090000
DTEND;TZID=America/Chicago:20220817T100000
DTSTAMP:20260421T055502
CREATED:20211111T204750Z
LAST-MODIFIED:20211115T192422Z
UID:4690-1660726800-1660730400@cachouston.org
SUMMARY:Darkness to Light: Commercial Sexual Exploitation of Children
DESCRIPTION:
URL:https://cachouston.org/event/darkness-to-light-commercial-sexual-exploitation-of-children-17/
LOCATION:Microsoft Teams
CATEGORIES:Training
END:VEVENT
BEGIN:VEVENT
DTSTART;TZID=America/Chicago:20220823T100000
DTEND;TZID=America/Chicago:20220823T120000
DTSTAMP:20260421T055502
CREATED:20220201T163352Z
LAST-MODIFIED:20220201T163416Z
UID:4815-1661248800-1661256000@cachouston.org
SUMMARY:Harris County Child Sex Trafficking (CST) Workshop
DESCRIPTION:
URL:https://cachouston.org/event/harris-county-child-sex-trafficking-cst-workshop-2/
LOCATION:Microsoft Teams
CATEGORIES:Training
END:VEVENT
BEGIN:VEVENT
DTSTART;TZID=America/Chicago:20220823T120000
DTEND;TZID=America/Chicago:20220823T130000
DTSTAMP:20260421T055502
CREATED:20220726T190414Z
LAST-MODIFIED:20220726T194111Z
UID:5102-1661256000-1661259600@cachouston.org
SUMMARY:Abuso y Maltrato Infantil: Como Responder (En Español)
DESCRIPTION:
URL:https://cachouston.org/event/abuso-y-maltrato-infantil-como-responder-en-espanol/
LOCATION:Microsoft Teams
CATEGORIES:Training
END:VEVENT
BEGIN:VEVENT
DTSTART;TZID=America/Chicago:20220823T140000
DTEND;TZID=America/Chicago:20220823T144500
DTSTAMP:20260421T055502
CREATED:20211104T205440Z
LAST-MODIFIED:20211104T205440Z
UID:4674-1661263200-1661265900@cachouston.org
SUMMARY:Bystanders Protecting Children From Boundary Violations and Sexual Abuse
DESCRIPTION:
URL:https://cachouston.org/event/bystanders-protecting-children-from-boundary-violations-and-sexual-abuse-4/
LOCATION:Microsoft Teams
CATEGORIES:Training
END:VEVENT
END:VCALENDAR