BEGIN:VCALENDAR
VERSION:2.0
PRODID:-//Children&#039;s Assessment Center - ECPv6.15.20//NONSGML v1.0//EN
CALSCALE:GREGORIAN
METHOD:PUBLISH
X-ORIGINAL-URL:https://cachouston.org
X-WR-CALDESC:Events for Children&#039;s Assessment Center
REFRESH-INTERVAL;VALUE=DURATION:PT1H
X-Robots-Tag:noindex
X-PUBLISHED-TTL:PT1H
BEGIN:VTIMEZONE
TZID:America/Chicago
BEGIN:DAYLIGHT
TZOFFSETFROM:-0600
TZOFFSETTO:-0500
TZNAME:CDT
DTSTART:20230312T080000
END:DAYLIGHT
BEGIN:STANDARD
TZOFFSETFROM:-0500
TZOFFSETTO:-0600
TZNAME:CST
DTSTART:20231105T070000
END:STANDARD
BEGIN:DAYLIGHT
TZOFFSETFROM:-0600
TZOFFSETTO:-0500
TZNAME:CDT
DTSTART:20240310T080000
END:DAYLIGHT
BEGIN:STANDARD
TZOFFSETFROM:-0500
TZOFFSETTO:-0600
TZNAME:CST
DTSTART:20241103T070000
END:STANDARD
BEGIN:DAYLIGHT
TZOFFSETFROM:-0600
TZOFFSETTO:-0500
TZNAME:CDT
DTSTART:20250309T080000
END:DAYLIGHT
BEGIN:STANDARD
TZOFFSETFROM:-0500
TZOFFSETTO:-0600
TZNAME:CST
DTSTART:20251102T070000
END:STANDARD
END:VTIMEZONE
BEGIN:VEVENT
DTSTART;TZID=America/Chicago:20240711T173000
DTEND;TZID=America/Chicago:20240711T200000
DTSTAMP:20260420T130706
CREATED:20231228T145737Z
LAST-MODIFIED:20231228T145745Z
UID:5931-1720719000-1720728000@cachouston.org
SUMMARY:Darkness to Light - Stewards of Children
DESCRIPTION:
URL:https://cachouston.org/event/darkness-to-light-stewards-of-children-57/
LOCATION:The Children’s Assessment Center
CATEGORIES:Training
END:VEVENT
BEGIN:VEVENT
DTSTART;TZID=America/Chicago:20240718T090000
DTEND;TZID=America/Chicago:20240718T100000
DTSTAMP:20260420T130706
CREATED:20231228T162204Z
LAST-MODIFIED:20231228T162204Z
UID:5955-1721293200-1721296800@cachouston.org
SUMMARY:Darkness to Light: Bystanders Protecting Children from Boundary Violations
DESCRIPTION:
URL:https://cachouston.org/event/darkness-to-light-bystanders-protecting-children-from-boundary-violations-3/
LOCATION:Virtual Event
CATEGORIES:Training
END:VEVENT
BEGIN:VEVENT
DTSTART;TZID=America/Chicago:20240723T053000
DTEND;TZID=America/Chicago:20240723T183000
DTSTAMP:20260420T130706
CREATED:20231228T154957Z
LAST-MODIFIED:20231228T154957Z
UID:5943-1721712600-1721759400@cachouston.org
SUMMARY:Darkness to Light: Commercial Sexual Exploitation of Children
DESCRIPTION:
URL:https://cachouston.org/event/darkness-to-light-commercial-sexual-exploitation-of-children-36/
LOCATION:Virtual Event
CATEGORIES:Training
END:VEVENT
BEGIN:VEVENT
DTSTART;TZID=America/Chicago:20240724T140000
DTEND;TZID=America/Chicago:20240724T150000
DTSTAMP:20260420T130706
CREATED:20231228T160744Z
LAST-MODIFIED:20231228T160835Z
UID:5950-1721829600-1721833200@cachouston.org
SUMMARY:Darkness to Light: Talking with Children about Safety From Sexual Abuse
DESCRIPTION:
URL:https://cachouston.org/event/darkness-to-light-talking-with-children-about-safety-from-sexual-abuse-15/
LOCATION:Virtual Event
CATEGORIES:Training
END:VEVENT
END:VCALENDAR