BEGIN:VCALENDAR
VERSION:2.0
PRODID:-//Children&#039;s Assessment Center - ECPv6.15.20//NONSGML v1.0//EN
CALSCALE:GREGORIAN
METHOD:PUBLISH
X-ORIGINAL-URL:https://cachouston.org
X-WR-CALDESC:Events for Children&#039;s Assessment Center
REFRESH-INTERVAL;VALUE=DURATION:PT1H
X-Robots-Tag:noindex
X-PUBLISHED-TTL:PT1H
BEGIN:VTIMEZONE
TZID:America/Chicago
BEGIN:DAYLIGHT
TZOFFSETFROM:-0600
TZOFFSETTO:-0500
TZNAME:CDT
DTSTART:20250309T080000
END:DAYLIGHT
BEGIN:STANDARD
TZOFFSETFROM:-0500
TZOFFSETTO:-0600
TZNAME:CST
DTSTART:20251102T070000
END:STANDARD
BEGIN:DAYLIGHT
TZOFFSETFROM:-0600
TZOFFSETTO:-0500
TZNAME:CDT
DTSTART:20260308T080000
END:DAYLIGHT
BEGIN:STANDARD
TZOFFSETFROM:-0500
TZOFFSETTO:-0600
TZNAME:CST
DTSTART:20261101T070000
END:STANDARD
BEGIN:DAYLIGHT
TZOFFSETFROM:-0600
TZOFFSETTO:-0500
TZNAME:CDT
DTSTART:20270314T080000
END:DAYLIGHT
BEGIN:STANDARD
TZOFFSETFROM:-0500
TZOFFSETTO:-0600
TZNAME:CST
DTSTART:20271107T070000
END:STANDARD
END:VTIMEZONE
BEGIN:VEVENT
DTSTART;TZID=America/Chicago:20260428T100000
DTEND;TZID=America/Chicago:20260428T120000
DTSTAMP:20260425T073011
CREATED:20260312T203927Z
LAST-MODIFIED:20260312T203946Z
UID:7133-1777370400-1777377600@cachouston.org
SUMMARY:Adverse Childhood Experiences: Supporting Children from Traumatic Backgrounds | Child Abuse Prevention Month Series Workshop
DESCRIPTION:CLICK HERE TO REGISTER NOW ON THE CAC E-LEARNING PORTAL
URL:https://cachouston.org/event/adverse-childhood-experiences-supporting-children-from-traumatic-backgrounds-child-abuse-prevention-month-series-workshop/
LOCATION:Virtual Event
CATEGORIES:Training
END:VEVENT
BEGIN:VEVENT
DTSTART;TZID=America/Chicago:20260430T140000
DTEND;TZID=America/Chicago:20260430T150000
DTSTAMP:20260425T073011
CREATED:20260212T194915Z
LAST-MODIFIED:20260212T202216Z
UID:7075-1777557600-1777561200@cachouston.org
SUMMARY:Darkness to Light: Consent\, Healthy Touch and Boundaries
DESCRIPTION:
URL:https://cachouston.org/event/darkness-to-light-consent-healthy-touch-and-boundaries/
LOCATION:Virtual Event
CATEGORIES:Training
END:VEVENT
END:VCALENDAR